BEGIN:VCALENDAR
VERSION:2.0
PRODID:-//EHBO - Nistelrode - ECPv5.16.1//NONSGML v1.0//EN
CALSCALE:GREGORIAN
METHOD:PUBLISH
X-WR-CALNAME:EHBO - Nistelrode
X-ORIGINAL-URL:https://ehbo-nistelrode.nl
X-WR-CALDESC:Events for EHBO - Nistelrode
REFRESH-INTERVAL;VALUE=DURATION:PT1H
X-Robots-Tag:noindex
X-PUBLISHED-TTL:PT1H
BEGIN:VTIMEZONE
TZID:Europe/Paris
BEGIN:DAYLIGHT
TZOFFSETFROM:+0100
TZOFFSETTO:+0200
TZNAME:CEST
DTSTART:20190331T010000
END:DAYLIGHT
BEGIN:STANDARD
TZOFFSETFROM:+0200
TZOFFSETTO:+0100
TZNAME:CET
DTSTART:20191027T010000
END:STANDARD
BEGIN:DAYLIGHT
TZOFFSETFROM:+0100
TZOFFSETTO:+0200
TZNAME:CEST
DTSTART:20200329T010000
END:DAYLIGHT
BEGIN:STANDARD
TZOFFSETFROM:+0200
TZOFFSETTO:+0100
TZNAME:CET
DTSTART:20201025T010000
END:STANDARD
BEGIN:DAYLIGHT
TZOFFSETFROM:+0100
TZOFFSETTO:+0200
TZNAME:CEST
DTSTART:20210328T010000
END:DAYLIGHT
BEGIN:STANDARD
TZOFFSETFROM:+0200
TZOFFSETTO:+0100
TZNAME:CET
DTSTART:20211031T010000
END:STANDARD
BEGIN:DAYLIGHT
TZOFFSETFROM:+0100
TZOFFSETTO:+0200
TZNAME:CEST
DTSTART:20220327T010000
END:DAYLIGHT
BEGIN:STANDARD
TZOFFSETFROM:+0200
TZOFFSETTO:+0100
TZNAME:CET
DTSTART:20221030T010000
END:STANDARD
BEGIN:DAYLIGHT
TZOFFSETFROM:+0100
TZOFFSETTO:+0200
TZNAME:CEST
DTSTART:20230326T010000
END:DAYLIGHT
BEGIN:STANDARD
TZOFFSETFROM:+0200
TZOFFSETTO:+0100
TZNAME:CET
DTSTART:20231029T010000
END:STANDARD
BEGIN:DAYLIGHT
TZOFFSETFROM:+0100
TZOFFSETTO:+0200
TZNAME:CEST
DTSTART:20240331T010000
END:DAYLIGHT
BEGIN:STANDARD
TZOFFSETFROM:+0200
TZOFFSETTO:+0100
TZNAME:CET
DTSTART:20241027T010000
END:STANDARD
BEGIN:DAYLIGHT
TZOFFSETFROM:+0100
TZOFFSETTO:+0200
TZNAME:CEST
DTSTART:20250330T010000
END:DAYLIGHT
BEGIN:STANDARD
TZOFFSETFROM:+0200
TZOFFSETTO:+0100
TZNAME:CET
DTSTART:20251026T010000
END:STANDARD
END:VTIMEZONE
BEGIN:VEVENT
DTSTART;TZID=Europe/Paris:20251126T200000
DTEND;TZID=Europe/Paris:20251126T220000
DTSTAMP:20260425T164936
CREATED:20251119T195044Z
LAST-MODIFIED:20251119T195359Z
UID:425-1764187200-1764194400@ehbo-nistelrode.nl
SUMMARY:Herhalingsles  26 November 2025
DESCRIPTION:In het Gildegebouw aan de Hoge Akkers in Nistelrode wordt woensdag 26 november een herhalingsles gehouden voor onze leden van de EHBO vereniging. We starten deze avond om 19:45 uur. Heb je interesse om eens een les te volgen meld je aan bij onze secretaris.
URL:https://ehbo-nistelrode.nl/event/herhalingsles-26-november-2025/
CATEGORIES:Evenement
END:VEVENT
BEGIN:VEVENT
DTSTART;VALUE=DATE:20190626
DTEND;VALUE=DATE:20190627
DTSTAMP:20260425T164936
CREATED:20220613T125956Z
LAST-MODIFIED:20220613T144125Z
UID:237-1561507200-1561593599@ehbo-nistelrode.nl
SUMMARY:EHak
DESCRIPTION:
URL:https://ehbo-nistelrode.nl/event/ehak-2/
LOCATION:Dorpshuis\, Laar 50\, Nistelrode\, 5388HK\, Nederland
CATEGORIES:Evenement
END:VEVENT
BEGIN:VEVENT
DTSTART;VALUE=DATE:20190625
DTEND;VALUE=DATE:20190626
DTSTAMP:20260425T164936
CREATED:20220613T125956Z
LAST-MODIFIED:20220613T144130Z
UID:236-1561420800-1561507199@ehbo-nistelrode.nl
SUMMARY:EHaK
DESCRIPTION:
URL:https://ehbo-nistelrode.nl/event/ehak/
LOCATION:Dorpshuis\, Laar 50\, Nistelrode\, 5388HK\, Nederland
CATEGORIES:Evenement
END:VEVENT
BEGIN:VEVENT
DTSTART;VALUE=DATE:20190420
DTEND;VALUE=DATE:20190421
DTSTAMP:20260425T164936
CREATED:20220613T102134Z
LAST-MODIFIED:20220613T144147Z
UID:142-1555718400-1555804799@ehbo-nistelrode.nl
SUMMARY:Internationaal voetbaltoernooi TOP Oss sportpark "De Schellen"
DESCRIPTION:
URL:https://ehbo-nistelrode.nl/event/internationaal-voetbaltoernooi-top-oss-sportpark-de-schellen/
LOCATION:De Schellen\, RKSV Prinses Irene\, Loo 8\, Nistelrode\, 5388SB\, Nederland
CATEGORIES:Evenement
END:VEVENT
BEGIN:VEVENT
DTSTART;VALUE=DATE:20190412
DTEND;VALUE=DATE:20190413
DTSTAMP:20260425T164936
CREATED:20220613T101813Z
LAST-MODIFIED:20220613T144156Z
UID:137-1555027200-1555113599@ehbo-nistelrode.nl
SUMMARY:Koningsspelen sportpark "de Schellen"
DESCRIPTION:
URL:https://ehbo-nistelrode.nl/event/koningsspelen-sportpark-de-schellen/
LOCATION:Dorpshuis\, Laar 50\, Nistelrode\, 5388HK\, Nederland
CATEGORIES:Evenement
END:VEVENT
BEGIN:VEVENT
DTSTART;VALUE=DATE:20190407
DTEND;VALUE=DATE:20190408
DTSTAMP:20260425T164936
CREATED:20220613T125407Z
LAST-MODIFIED:20220613T144206Z
UID:219-1554595200-1554681599@ehbo-nistelrode.nl
SUMMARY:Kom in de kas Jan Aardbei Uden
DESCRIPTION:
URL:https://ehbo-nistelrode.nl/event/kom-in-de-kas-jan-aardbei-uden/
LOCATION:Dorpshuis\, Laar 50\, Nistelrode\, 5388HK\, Nederland
CATEGORIES:Evenement
END:VEVENT
END:VCALENDAR